BEGIN:VCALENDAR
VERSION:2.0
PRODID:-//The Crystal Healing Temple - ECPv4.5.9//NONSGML v1.0//EN
CALSCALE:GREGORIAN
METHOD:PUBLISH
X-WR-CALNAME:The Crystal Healing Temple
X-ORIGINAL-URL:http://www.thecrystalhealingtemple.com.au
X-WR-CALDESC:Events for The Crystal Healing Temple
BEGIN:VEVENT
DTSTART;TZID=UTC+0:20180227T190000
DTEND;TZID=UTC+0:20180227T203000
DTSTAMP:20180226T232532
CREATED:20180117T073022Z
LAST-MODIFIED:20180117T074235Z
UID:713-1519758000-1519763400@www.thecrystalhealingtemple.com.au
SUMMARY:Meditation Class
DESCRIPTION:
URL:http://www.thecrystalhealingtemple.com.au/event/meditation-class-23/
LOCATION:Suite 42\, 12-14 Waratah St\, Mona Vale\, NSW\, 2103\, Australia
ATTACH;FMTTYPE=image/jpeg:http://www.thecrystalhealingtemple.com.au/wp-content/uploads/2017/09/images.jpeg
END:VEVENT
BEGIN:VEVENT
DTSTART;TZID=UTC+0:20180315T160000
DTEND;TZID=UTC+0:20180321T120000
DTSTAMP:20180226T232532
CREATED:20180117T073424Z
LAST-MODIFIED:20180212T053134Z
UID:717-1521129600-1521633600@www.thecrystalhealingtemple.com.au
SUMMARY:Bali Heart Activation Retreat
DESCRIPTION:Pack your bags & get ready to connect with your Divine self\, inside your radiant Heart like never before!  You will be pampered\, there will be fun & exciting day trips & complete time to soak up & enjoy time to yourself&#8230; Choose 10 day Retreat or 6 day Retreat&#8230; \n
URL:http://www.thecrystalhealingtemple.com.au/event/bali-heart-activation-retreat-2/
LOCATION:NSW\, Indonesia
ATTACH;FMTTYPE=image/png:http://www.thecrystalhealingtemple.com.au/wp-content/uploads/2017/07/baliretreat3.png
END:VEVENT
BEGIN:VEVENT
DTSTART;TZID=UTC+0:20180408T150000
DTEND;TZID=UTC+0:20180408T180000
DTSTAMP:20180226T232532
CREATED:20180212T054104Z
LAST-MODIFIED:20180212T054105Z
UID:772-1523199600-1523210400@www.thecrystalhealingtemple.com.au
SUMMARY:Inner Goddess Meditation & Manifestation Circle
DESCRIPTION:Its time to embrace & connect into our inner aspects of our inner divinity &#8211; connecting to the Goddess within!  What aspects of yourself are ready to shine through & work for you?  Are you feeling the need for some encouragement to connect to your inner power\, your inner creative\, your inner rhythm? \n
URL:http://www.thecrystalhealingtemple.com.au/event/meditation/
LOCATION:Suite 42\, 12-14 Waratah St\, Mona Vale\, NSW\, 2103\, Australia
ATTACH;FMTTYPE=image/jpeg:http://www.thecrystalhealingtemple.com.au/wp-content/uploads/2018/02/freya.jpg
END:VEVENT
BEGIN:VEVENT
DTSTART;TZID=UTC+0:20180420T093000
DTEND;TZID=UTC+0:20180422T173000
DTSTAMP:20180226T232532
CREATED:20180212T063012Z
LAST-MODIFIED:20180212T063013Z
UID:788-1524216600-1524418200@www.thecrystalhealingtemple.com.au
SUMMARY:Reiki Level 3 Master Practitioner Certificate Course
DESCRIPTION:Have you been feeling a Reiki tap on the shoulder “its time…”\nIt is my honour to be teaching the Reiki Level 3 Master Practitioner Certificate Course. This is a very powerful & magical 3 day Course\, filled with so much Master level training.  Are you ready to commit to being a Reiki Master Practitioner?  Are you ready to be disciplined like never before of your Spiritual\, Heart centered wellbeing & practice?  Are you up for taking it to the next level & really allowing your true Mastery to shine? Are you ready to walk the talk of your true inner Master? Are you feeling guided to bring through yourself\, on all levels\, more Universal Light force\, more love & abundance of all that you desire to move forward with?  This is just part of what you will be receiving on the Reiki Level 3 Master Course. \n
URL:http://www.thecrystalhealingtemple.com.au/event/reiki-level-3-master-practitioner-certificate-course-3/
LOCATION:Suite 42\, 12-14 Waratah St\, Mona Vale\, NSW\, 2103\, Australia
ATTACH;FMTTYPE=image/jpeg:http://www.thecrystalhealingtemple.com.au/wp-content/uploads/2017/07/IMG_4932-e1518416972466.jpg
END:VEVENT
BEGIN:VEVENT
DTSTART;TZID=UTC+0:20180520T093000
DTEND;TZID=UTC+0:20180520T190000
DTSTAMP:20180226T232533
CREATED:20180212T061629Z
LAST-MODIFIED:20180212T061629Z
UID:784-1526808600-1526842800@www.thecrystalhealingtemple.com.au
SUMMARY:Reiki Level 1 Certificate Course
DESCRIPTION:Reiki is a hands on form of Healing. The definition of Reiki: Rei – Universal Ki –Life force energy.  This Healing Modality will connects you to Universal Life Force Energy\, to open & activate your natural healing abilities greatly.   It will enlighten your awareness to your intuitive gifts and raise your energy vibration. \n
URL:http://www.thecrystalhealingtemple.com.au/event/reiki-level-1-certificate-course-3/
LOCATION:Suite 42\, 12-14 Waratah St\, Mona Vale\, NSW\, 2103\, Australia
ATTACH;FMTTYPE=image/png:http://www.thecrystalhealingtemple.com.au/wp-content/uploads/2017/07/chakraimage.png
END:VEVENT
BEGIN:VEVENT
DTSTART;TZID=UTC+0:20180602T093000
DTEND;TZID=UTC+0:20180603T173000
DTSTAMP:20180226T232533
CREATED:20180212T062600Z
LAST-MODIFIED:20180212T063116Z
UID:786-1527931800-1528047000@www.thecrystalhealingtemple.com.au
SUMMARY:Reiki Level 2 Certificate Course
DESCRIPTION:Are you feeling ready to take your Reiki Healing to the next level\, are you wanting more&#8230;. \n\nNew levels of engaging with your intuition\, expanding your conscious awareness further\, feeling & becoming aware of Aura’s\nYou will be given 3 Sacred secret Reiki Symbols.  The 3 Ushi Symbols that you will be learning and attuned to\, will help you to leave no stone unturned.\nEach of these sacred symbols will be practised& taught thoroughly for you to use daily to empower you & your desires.\nAccess the Mental & Emotional levels for healing.\n Assisting to transform old patterns\, belief systems & reprogram with new empowering\, growth and expanded belief systems.\nWe will be learning how to do Distant healings being able to give Reiki to someone in need whether they are over seas\, interstate or just down the road.\n\nSee more details&#8230; \n
URL:http://www.thecrystalhealingtemple.com.au/event/reiki-level-2-certificate-course/
LOCATION:Suite 42\, 12-14 Waratah St\, Mona Vale\, NSW\, 2103\, Australia
ATTACH;FMTTYPE=image/png:http://www.thecrystalhealingtemple.com.au/wp-content/uploads/2017/07/reikilevel2.png
END:VEVENT
END:VCALENDAR